BEGIN:VCALENDAR
VERSION:2.0
PRODID:-//Site de la commune de Saint-Georges-de-Rouelley - ECPv5.10.1//NONSGML v1.0//EN
CALSCALE:GREGORIAN
METHOD:PUBLISH
X-WR-CALNAME:Site de la commune de Saint-Georges-de-Rouelley
X-ORIGINAL-URL:https://www.saintgeorgesderouelley.fr
X-WR-CALDESC:évènements pour Site de la commune de Saint-Georges-de-Rouelley
BEGIN:VTIMEZONE
TZID:Europe/Paris
BEGIN:DAYLIGHT
TZOFFSETFROM:+0100
TZOFFSETTO:+0200
TZNAME:CEST
DTSTART:20230326T010000
END:DAYLIGHT
BEGIN:STANDARD
TZOFFSETFROM:+0200
TZOFFSETTO:+0100
TZNAME:CET
DTSTART:20231029T010000
END:STANDARD
END:VTIMEZONE
BEGIN:VEVENT
DTSTART;TZID=Europe/Paris:20230826T140000
DTEND;TZID=Europe/Paris:20230826T160000
DTSTAMP:20260421T110758
CREATED:20230817T133701Z
LAST-MODIFIED:20230817T161136Z
UID:4282-1693058400-1693065600@www.saintgeorgesderouelley.fr
SUMMARY:Sylvothérapie
DESCRIPTION:Le 26 août\, sylvothérapie à la Fosse Arthour.
URL:https://www.saintgeorgesderouelley.fr/evenement/sylvotherapie/
LOCATION:La Fosse Arthour\, La Fosse Arthour\, Saint Georges de Rouelley\, 50720\, France
ORGANIZER;CN="Marie-Danielle%20Coaching":MAILTO:lechevaliermariedanielle@gmail.com
END:VEVENT
END:VCALENDAR