BEGIN:VCALENDAR
VERSION:2.0
PRODID:-//Site de la commune de Saint-Georges-de-Rouelley - ECPv5.10.1//NONSGML v1.0//EN
CALSCALE:GREGORIAN
METHOD:PUBLISH
X-WR-CALNAME:Site de la commune de Saint-Georges-de-Rouelley
X-ORIGINAL-URL:https://www.saintgeorgesderouelley.fr
X-WR-CALDESC:évènements pour Site de la commune de Saint-Georges-de-Rouelley
BEGIN:VTIMEZONE
TZID:Europe/Paris
BEGIN:DAYLIGHT
TZOFFSETFROM:+0100
TZOFFSETTO:+0200
TZNAME:CEST
DTSTART:20220327T010000
END:DAYLIGHT
BEGIN:STANDARD
TZOFFSETFROM:+0200
TZOFFSETTO:+0100
TZNAME:CET
DTSTART:20221030T010000
END:STANDARD
END:VTIMEZONE
BEGIN:VEVENT
DTSTART;TZID=Europe/Paris:20221214T140000
DTEND;TZID=Europe/Paris:20221214T170000
DTSTAMP:20260424T122513
CREATED:20220412T080414Z
LAST-MODIFIED:20220412T080916Z
UID:2801-1671026400-1671037200@www.saintgeorgesderouelley.fr
SUMMARY:Réunion du club St Georges Amitié
DESCRIPTION:
URL:https://www.saintgeorgesderouelley.fr/evenement/reunion-du-club-st-georges-amitie-18/
LOCATION:Salle Polyvalente\, 5 rue des écoles\, SAINT GEORGES DE ROUELLEY\, 50720
END:VEVENT
END:VCALENDAR