BEGIN:VCALENDAR
VERSION:2.0
PRODID:-//Site de la commune de Saint-Georges-de-Rouelley - ECPv5.10.1//NONSGML v1.0//EN
CALSCALE:GREGORIAN
METHOD:PUBLISH
X-WR-CALNAME:Site de la commune de Saint-Georges-de-Rouelley
X-ORIGINAL-URL:https://www.saintgeorgesderouelley.fr
X-WR-CALDESC:évènements pour Site de la commune de Saint-Georges-de-Rouelley
BEGIN:VTIMEZONE
TZID:Europe/Paris
BEGIN:DAYLIGHT
TZOFFSETFROM:+0100
TZOFFSETTO:+0200
TZNAME:CEST
DTSTART:20230326T010000
END:DAYLIGHT
BEGIN:STANDARD
TZOFFSETFROM:+0200
TZOFFSETTO:+0100
TZNAME:CET
DTSTART:20231029T010000
END:STANDARD
END:VTIMEZONE
BEGIN:VEVENT
DTSTART;TZID=Europe/Paris:20230410T080000
DTEND;TZID=Europe/Paris:20230410T170000
DTSTAMP:20260419T134228
CREATED:20230406T113637Z
LAST-MODIFIED:20230406T113637Z
UID:3898-1681113600-1681146000@www.saintgeorgesderouelley.fr
SUMMARY:La collecte des déchets du lundi 10 avril 2023
DESCRIPTION:
URL:https://www.saintgeorgesderouelley.fr/evenement/la-collecte-des-dechets-du-lundi-10-avril-2023/
END:VEVENT
END:VCALENDAR